BEGIN:VCALENDAR
VERSION:2.0
PRODID:-//SVP Schwarzbubenland //NONSGML Events //EN
CALSCALE:GREGORIAN
X-WR-CALNAME:SVP Schwarzbubenland
BEGIN:VEVENT
CREATED:20240307T090611Z
UID:1409
DTEND:20240315T210000
DTSTART:20240315T200000
DTSTAMP:20260425T172443Z
LOCATION:Restaurant Post\, Wolfwil
DESCRIPTION:SVP bi de Lüt mit Nationalräte Christian Imark und Rémy Wyssmann
SUMMARY:SVP bi de Lüt mit Nationalräte Christian Imark und Rémy Wyssmann
ORGANIZER:
URL;VALUE=URI:https://www.svp-schwarzbubenland.ch/termine/svp-bi-de-luet-mit-nationalraete-christian-imark-und-remy-wyssmann/
TRANSP:OPAQUE
END:VEVENT
END:VCALENDAR
