BEGIN:VCALENDAR
VERSION:2.0
PRODID:-//SVP Schwarzbubenland //NONSGML Events //EN
CALSCALE:GREGORIAN
X-WR-CALNAME:SVP Schwarzbubenland
BEGIN:VEVENT
CREATED:20260413T143302Z
UID:2285
DTEND:20260823T150000
DTSTART:20260823T100000
DTSTAMP:20260425T190825Z
LOCATION:Waldhaus Gretzenbach
DESCRIPTION:Die SVP Gretzenbach trifft sich zu ihrem traditionellen Familien-Grill
SUMMARY:Familien-Grillplausch der SVP Gretzenbach
ORGANIZER:
URL;VALUE=URI:https://www.svp-schwarzbubenland.ch/termine/familien-grillplausch-der-svp-gretzenbach/
TRANSP:OPAQUE
END:VEVENT
END:VCALENDAR
